BEGIN:VCALENDAR
VERSION:2.0
PRODID:-//AICA - ECPv6.15.17.1//NONSGML v1.0//EN
CALSCALE:GREGORIAN
METHOD:PUBLISH
X-ORIGINAL-URL:https://dev.aicalliance.org
X-WR-CALDESC:Events for AICA
REFRESH-INTERVAL;VALUE=DURATION:PT1H
X-Robots-Tag:noindex
X-PUBLISHED-TTL:PT1H
BEGIN:VTIMEZONE
TZID:America/New_York
BEGIN:DAYLIGHT
TZOFFSETFROM:-0500
TZOFFSETTO:-0400
TZNAME:EDT
DTSTART:20250309T070000
END:DAYLIGHT
BEGIN:STANDARD
TZOFFSETFROM:-0400
TZOFFSETTO:-0500
TZNAME:EST
DTSTART:20251102T060000
END:STANDARD
BEGIN:DAYLIGHT
TZOFFSETFROM:-0500
TZOFFSETTO:-0400
TZNAME:EDT
DTSTART:20260308T070000
END:DAYLIGHT
BEGIN:STANDARD
TZOFFSETFROM:-0400
TZOFFSETTO:-0500
TZNAME:EST
DTSTART:20261101T060000
END:STANDARD
BEGIN:DAYLIGHT
TZOFFSETFROM:-0500
TZOFFSETTO:-0400
TZNAME:EDT
DTSTART:20270314T070000
END:DAYLIGHT
BEGIN:STANDARD
TZOFFSETFROM:-0400
TZOFFSETTO:-0500
TZNAME:EST
DTSTART:20271107T060000
END:STANDARD
END:VTIMEZONE
BEGIN:VEVENT
DTSTART;VALUE=DATE:20260610
DTEND;VALUE=DATE:20260711
DTSTAMP:20260425T064424
CREATED:20260316T150814Z
LAST-MODIFIED:20260316T150814Z
UID:45059-1781049600-1783727999@dev.aicalliance.org
SUMMARY:BDC Earnings Pulse June 2026
DESCRIPTION:RegisterBDC Earnings Pulse: Trends\, Takeaways & Tactical Positioning \nRegisterJoin the Active Investment Company Alliance (AICA) for a concise\, insight-driven discussion unpacking the latest developments across the Business Development Company (BDC) sector. \nModerated by John Cole Scott\, Executive Chairman of AICA and President of CEF Advisors\, this 40-minute virtual session brings together leading analysts and institutional investors to interpret the most recent earnings results and discuss what they signal for the months ahead. \nOur panel will go beyond the headlines to examine what is really happening inside BDC portfolios—credit quality trends\, dividend sustainability\, NAV performance\, and evolving capital market dynamics. \nFeatured Panelists (TBC)\nThis fast-paced “pulse check” is designed for investors seeking timely insight into sector risks\, relative value opportunities\, and tactical positioning across the BDC landscape as we move into the next reporting cycle. \nDiscussion Highlights \n\nKey insights from the latest BDC earnings season\nDividend coverage\, non-accruals\, PIK income\, ROE\, and NAV trends\nThe evolving spread environment and institutional risk appetite\nTactical positioning and outlook for the next 3–6 months
URL:https://dev.aicalliance.org/aica-event/bdc-earnings-pulse-june-2026/
LOCATION:Virtual\, United States
CATEGORIES:Upcoming Events
ATTACH;FMTTYPE=image/png:https://dev.aicalliance.org/wp-content/uploads/2026/03/Featured-Image.png
END:VEVENT
END:VCALENDAR